Workbook

Sheet 確認ツール
B3: 佐世保市 介護認定審査会 開催日確認ツール
D5: =MIN(データ!B:B) -> 46216 | E5: ～ | F5: =MAX(データ!B:B) -> 46308 | G5: までの申請分が検索可能です。
C7: 被保険者番号 | G7: =IF(COUNTA(データ!A:A)<COUNTA(データ!J:J),"検索用番号の数式を伸ばしてください","")
C8: 申請日
D9: =IF(OR(D7="",D8=""),"",IF(COUNTIF(データ!A:A,D7&D8)>1,"大変恐れ入りますが、長寿社会課に直接お問い合わせください。",""))
C11: 認定申請内容 | G11: 介護認定審査会
C12: 申請区分 | D12: =IF(OR(D7="",D8="",D9<>""),"",IFERROR(VLOOKUP(RIGHT("0000"&D7,7)&D8,データ!A:J,3,FALSE),"該当なし")) | G12: 開催予定日 | H12: =IF(OR(D12="",D12="該当なし"),"",IF(VLOOKUP(RIGHT("0000"&D7,7)&D8,データ!A:H,5,FALSE)="","未定",VLOOKUP(RIGHT("0000"&D7,7)&D8,データ!A:H,5,FALSE)))
G14: 主治医意見書情報
G15: 意見書入手日 | H15: =IF(OR(D12="",D12="該当なし"),"",IF(VLOOKUP(RIGHT("0000"&D7,7)&D8,データ!A:I,9,FALSE)="","未定",VLOOKUP(RIGHT("0000"&D7,7)&D8,データ!A:I,9,FALSE)))
F17: ※未定の場合は | G17: =MAX(データ!E:E) -> 46317 | H17: 以降に審査会を開催予定です。

Sheet データ
A1: 検索用番号 | B1: 要介護認定申請日 | C1: 要介護認定申請区分 | D1: 一次審査日 | E1: 二次審査日 | F1: 要介護認定日 | G1: 進行状況 | H1: 認定状態区分 | I1: 主治医意見書入手日 | J1: 検索用被保番
A2: =RIGHT(J2,7)&B2 -> 000265046301 | B2: 46301 | C2: 介護申請 | G2: 申請 | H2: 申請受理 | J2: 0002650
A3: =RIGHT(J3,7)&B3 -> 000297746240 | B3: 46240 | C3: 変更申請 | D3: 46272 | E3: 46282 | F3: 46282 | G3: 認定済 | H3: 認定 | I3: 46273 | J3: 0002977
A4: =RIGHT(J4,7)&B4 -> 000565646235 | B4: 46235 | C4: 介護申請 | D4: 46246 | E4: 46261 | F4: 46261 | G4: 認定済 | H4: 認定 | I4: 46246 | J4: 0005656
A5: =RIGHT(J5,7)&B5 -> 000598446268 | B5: 46268 | C5: 更新申請 | D5: 46308 | G5: ２次判定可能 | H5: 申請受理 | I5: 46308 | J5: 0005984
A6: =RIGHT(J6,7)&B6 -> 000612846296 | B6: 46296 | C6: 更新申請 | G6: 申請 | H6: 申請受理 | J6: 0006128
A7: =RIGHT(J7,7)&B7 -> 000634346238 | B7: 46238 | C7: 更新申請 | D7: 46273 | E7: 46289 | F7: 46289 | G7: 認定済 | H7: 認定 | I7: 46273 | J7: 0006343
A8: =RIGHT(J8,7)&B8 -> 000638046297 | B8: 46297 | C8: 更新申請 | G8: 申請 | H8: 申請受理 | J8: 0006380
A9: =RIGHT(J9,7)&B9 -> 000641946268 | B9: 46268 | C9: 更新申請 | D9: 46304 | E9: 46317 | G9: ２次判定可能 | H9: 申請受理 | I9: 46304 | J9: 0006419
A10: =RIGHT(J10,7)&B10 -> 000761246266 | B10: 46266 | C10: 更新申請 | D10: 46297 | E10: 46310 | G10: ２次判定可能 | H10: 申請受理 | I10: 46297 | J10: 0007612
A11: =RIGHT(J11,7)&B11 -> 000996846296 | B11: 46296 | C11: 更新申請 | G11: 申請 | H11: 申請受理 | J11: 0009968
A12: =RIGHT(J12,7)&B12 -> 001010446266 | B12: 46266 | C12: 更新申請 | D12: 46283 | E12: 46300 | F12: 46300 | G12: 認定済 | H12: 認定 | I12: 46283 | J12: 0010104
A13: =RIGHT(J13,7)&B13 -> 001137046272 | B13: 46272 | C13: 変更申請 | D13: 46295 | E13: 46308 | G13: ２次判定可能 | H13: 申請受理 | I13: 46295 | J13: 0011370
A14: =RIGHT(J14,7)&B14 -> 001397046266 | B14: 46266 | C14: 更新申請 | D14: 46290 | E14: 46302 | F14: 46302 | G14: 認定済 | H14: 認定 | I14: 46290 | J14: 0013970
A15: =RIGHT(J15,7)&B15 -> 001398146296 | B15: 46296 | C15: 更新申請 | G15: 申請 | H15: 申請受理 | J15: 0013981
A16: =RIGHT(J16,7)&B16 -> 001412546237 | B16: 46237 | C16: 更新申請 | D16: 46265 | E16: 46276 | F16: 46276 | G16: 認定済 | H16: 認定 | I16: 46265 | J16: 0014125
A17: =RIGHT(J17,7)&B17 -> 001499546266 | B17: 46266 | C17: 更新申請 | D17: 46297 | E17: 46310 | G17: ２次判定可能 | H17: 申請受理 | I17: 46297 | J17: 0014995
A18: =RIGHT(J18,7)&B18 -> 001583546217 | B18: 46217 | C18: 新規申請 | D18: 46238 | E18: 46255 | F18: 46255 | G18: 認定済 | H18: 認定 | I18: 46238 | J18: 0015835
A19: =RIGHT(J19,7)&B19 -> 001720846267 | B19: 46267 | C19: 更新申請 | G19: 申請 | H19: 申請受理 | J19: 0017208
A20: =RIGHT(J20,7)&B20 -> 001766246237 | B20: 46237 | C20: 更新申請 | D20: 46275 | E20: 46290 | F20: 46290 | G20: 認定済 | H20: 認定 | I20: 46279 | J20: 0017662
A21: =RIGHT(J21,7)&B21 -> 001823546238 | B21: 46238 | C21: 更新申請 | D21: 46280 | E21: 46295 | F21: 46295 | G21: 認定済 | H21: 認定 | I21: 46280 | J21: 0018235
A22: =RIGHT(J22,7)&B22 -> 002011746296 | B22: 46296 | C22: 更新申請 | G22: 申請 | H22: 申請受理 | J22: 0020117
A23: =RIGHT(J23,7)&B23 -> 002341546294 | B23: 46294 | C23: 更新申請 | G23: 申請 | H23: 申請受理 | J23: 0023415
A24: =RIGHT(J24,7)&B24 -> 002604246266 | B24: 46266 | C24: 介護申請 | D24: 46274 | E24: 46289 | F24: 46289 | G24: 認定済 | H24: 認定 | I24: 46274 | J24: 0026042
A25: =RIGHT(J25,7)&B25 -> 002722246237 | B25: 46237 | C25: 更新申請 | D25: 46274 | E25: 46290 | F25: 46290 | G25: 認定済 | H25: 認定 | I25: 46274 | J25: 0027222
A26: =RIGHT(J26,7)&B26 -> 002953046293 | B26: 46293 | C26: 更新申請 | G26: 申請 | H26: 申請受理 | J26: 0029530
A27: =RIGHT(J27,7)&B27 -> 002984546296 | B27: 46296 | C27: 更新申請 | G27: 申請 | H27: 申請受理 | J27: 0029845
A28: =RIGHT(J28,7)&B28 -> 003162646239 | B28: 46239 | C28: 変更申請 | D28: 46267 | E28: 46279 | F28: 46279 | G28: 認定済 | H28: 認定 | I28: 46267 | J28: 0031626
A29: =RIGHT(J29,7)&B29 -> 003259046237 | B29: 46237 | C29: 更新申請 | D29: 46255 | E29: 46268 | F29: 46268 | G29: 認定済 | H29: 認定 | I29: 46255 | J29: 0032590
A30: =RIGHT(J30,7)&B30 -> 003284346266 | B30: 46266 | C30: 更新申請 | D30: 46294 | E30: 46308 | G30: ２次判定可能 | H30: 申請受理 | I30: 46294 | J30: 0032843
A31: =RIGHT(J31,7)&B31 -> 003345346296 | B31: 46296 | C31: 更新申請 | G31: 申請 | H31: 申請受理 | J31: 0033453
A32: =RIGHT(J32,7)&B32 -> 003486046296 | B32: 46296 | C32: 更新申請 | G32: 申請 | H32: 申請受理 | J32: 0034860
A33: =RIGHT(J33,7)&B33 -> 003583746296 | B33: 46296 | C33: 更新申請 | G33: 申請 | H33: 申請受理 | J33: 0035837
A34: =RIGHT(J34,7)&B34 -> 003612046237 | B34: 46237 | C34: 更新申請 | D34: 46259 | E34: 46269 | F34: 46269 | G34: 認定済 | H34: 認定 | I34: 46259 | J34: 0036120
A35: =RIGHT(J35,7)&B35 -> 003892146266 | B35: 46266 | C35: 更新申請 | D35: 46283 | E35: 46300 | F35: 46300 | G35: 認定済 | H35: 認定 | I35: 46283 | J35: 0038921
A36: =RIGHT(J36,7)&B36 -> 003919946266 | B36: 46266 | C36: 更新申請 | D36: 46304 | E36: 46317 | G36: ２次判定可能 | H36: 申請受理 | I36: 46304 | J36: 0039199
A37: =RIGHT(J37,7)&B37 -> 004019346224 | B37: 46224 | C37: 更新申請 | D37: 46253 | E37: 46265 | F37: 46265 | G37: 認定済 | H37: 認定 | I37: 46253 | J37: 0040193
A38: =RIGHT(J38,7)&B38 -> 004020846224 | B38: 46224 | C38: 更新申請 | D38: 46255 | E38: 46267 | F38: 46267 | G38: 認定済 | H38: 認定 | I38: 46255 | J38: 0040208
A39: =RIGHT(J39,7)&B39 -> 004051246266 | B39: 46266 | C39: 更新申請 | D39: 46301 | E39: 46311 | G39: ２次判定可能 | H39: 申請受理 | I39: 46301 | J39: 0040512
A40: =RIGHT(J40,7)&B40 -> 004295746235 | B40: 46235 | C40: 新規申請 | D40: 46275 | E40: 46290 | F40: 46290 | G40: 認定済 | H40: 認定 | I40: 46275 | J40: 0042957
A41: =RIGHT(J41,7)&B41 -> 004952046237 | B41: 46237 | C41: 更新申請 | D41: 46269 | E41: 46280 | F41: 46280 | G41: 認定済 | H41: 認定 | I41: 46269 | J41: 0049520
A42: =RIGHT(J42,7)&B42 -> 005025846296 | B42: 46296 | C42: 更新申請 | G42: 申請 | H42: 申請受理 | J42: 0050258
A43: =RIGHT(J43,7)&B43 -> 005080446237 | B43: 46237 | C43: 更新申請 | D43: 46258 | E43: 46268 | F43: 46268 | G43: 認定済 | H43: 認定 | I43: 46258 | J43: 0050804
A44: =RIGHT(J44,7)&B44 -> 005160446237 | B44: 46237 | C44: 更新申請 | D44: 46262 | E44: 46274 | F44: 46274 | G44: 認定済 | H44: 認定 | I44: 46262 | J44: 0051604
A45: =RIGHT(J45,7)&B45 -> 005204846266 | B45: 46266 | C45: 更新申請 | D45: 46289 | E45: 46301 | F45: 46301 | G45: 認定済 | H45: 認定 | I45: 46289 | J45: 0052048
A46: =RIGHT(J46,7)&B46 -> 005313946246 | B46: 46246 | C46: 更新申請 | D46: 46267 | E46: 46280 | F46: 46280 | G46: 認定済 | H46: 認定 | I46: 46267 | J46: 0053139
A47: =RIGHT(J47,7)&B47 -> 005445746241 | B47: 46241 | C47: 更新申請 | D47: 46274 | E47: 46290 | F47: 46290 | G47: 認定済 | H47: 認定 | I47: 46274 | J47: 0054457
A48: =RIGHT(J48,7)&B48 -> 005535846266 | B48: 46266 | C48: 更新申請 | D48: 46293 | E48: 46303 | F48: 46303 | G48: 認定済 | H48: 認定 | I48: 46293 | J48: 0055358
A49: =RIGHT(J49,7)&B49 -> 005635046237 | B49: 46237 | C49: 更新申請 | D49: 46269 | E49: 46282 | F49: 46282 | G49: 認定済 | H49: 認定 | I49: 46269 | J49: 0056350
A50: =RIGHT(J50,7)&B50 -> 005954546238 | B50: 46238 | C50: 更新申請 | D50: 46281 | E50: 46295 | F50: 46295 | G50: 認定済 | H50: 認定 | I50: 46281 | J50: 0059545
A51: =RIGHT(J51,7)&B51 -> 006230446296 | B51: 46296 | C51: 変更申請 | G51: 申請 | H51: 申請受理 | J51: 0062304
A52: =RIGHT(J52,7)&B52 -> 006311646230 | B52: 46230 | C52: 介護申請 | D52: 46247 | E52: 46261 | F52: 46261 | G52: 認定済 | H52: 認定 | I52: 46247 | J52: 0063116
A53: =RIGHT(J53,7)&B53 -> 006315346237 | B53: 46237 | C53: 更新申請 | D53: 46268 | E53: 46280 | F53: 46280 | G53: 認定済 | H53: 認定 | I53: 46268 | J53: 0063153
A54: =RIGHT(J54,7)&B54 -> 006334346237 | B54: 46237 | C54: 更新申請 | D54: 46272 | E54: 46282 | F54: 46282 | G54: 認定済 | H54: 認定 | I54: 46272 | J54: 0063343
A55: =RIGHT(J55,7)&B55 -> 006461246237 | B55: 46237 | C55: 更新申請 | D55: 46265 | E55: 46276 | F55: 46276 | G55: 認定済 | H55: 認定 | I55: 46265 | J55: 0064612
A56: =RIGHT(J56,7)&B56 -> 006506846253 | B56: 46253 | C56: 新規申請 | D56: 46275 | E56: 46290 | F56: 46290 | G56: 認定済 | H56: 認定 | I56: 46275 | J56: 0065068
A57: =RIGHT(J57,7)&B57 -> 006525846235 | B57: 46235 | C57: 変更申請 | D57: 46265 | E57: 46274 | F57: 46274 | G57: 認定済 | H57: 認定 | I57: 46265 | J57: 0065258
A58: =RIGHT(J58,7)&B58 -> 006589046266 | B58: 46266 | C58: 変更申請 | D58: 46290 | E58: 46302 | F58: 46302 | G58: 認定済 | H58: 認定 | I58: 46290 | J58: 0065890
A59: =RIGHT(J59,7)&B59 -> 006625046296 | B59: 46296 | C59: 変更申請 | G59: 申請 | H59: 申請受理 | J59: 0066250
A60: =RIGHT(J60,7)&B60 -> 006648746246 | B60: 46246 | C60: 更新申請 | D60: 46268 | E60: 46281 | F60: 46281 | G60: 認定済 | H60: 認定 | I60: 46268 | J60: 0066487
A61: =RIGHT(J61,7)&B61 -> 006663046296 | B61: 46296 | C61: 更新申請 | G61: 申請 | H61: 申請受理 | J61: 0066630
A62: =RIGHT(J62,7)&B62 -> 006696846296 | B62: 46296 | C62: 更新申請 | G62: 申請 | H62: 申請受理 | J62: 0066968
A63: =RIGHT(J63,7)&B63 -> 006804046225 | B63: 46225 | C63: 新規申請 | D63: 46261 | E63: 46273 | F63: 46273 | G63: 認定済 | H63: 認定 | I63: 46261 | J63: 0068040
A64: =RIGHT(J64,7)&B64 -> 006878346296 | B64: 46296 | C64: 変更申請 | G64: 申請 | H64: 申請受理 | J64: 0068783
A65: =RIGHT(J65,7)&B65 -> 007014746266 | B65: 46266 | C65: 更新申請 | D65: 46297 | E65: 46311 | G65: ２次判定可能 | H65: 申請受理 | I65: 46297 | J65: 0070147
A66: =RIGHT(J66,7)&B66 -> 007103646262 | B66: 46262 | C66: 更新申請 | D66: 46281 | E66: 46297 | F66: 46297 | G66: 認定済 | H66: 認定 | I66: 46281 | J66: 0071036
A67: =RIGHT(J67,7)&B67 -> 007227746235 | B67: 46235 | C67: 新規申請 | D67: 46261 | E67: 46273 | F67: 46273 | G67: 認定済 | H67: 認定 | I67: 46261 | J67: 0072277
A68: =RIGHT(J68,7)&B68 -> 007306546241 | B68: 46241 | C68: 更新申請 | D68: 46294 | E68: 46308 | G68: ２次判定可能 | H68: 申請受理 | I68: 46294 | J68: 0073065
A69: =RIGHT(J69,7)&B69 -> 007359546289 | B69: 46289 | C69: 新規申請 | G69: 申請 | H69: 申請受理 | J69: 0073595
A70: =RIGHT(J70,7)&B70 -> 007450046225 | B70: 46225 | C70: 新規申請 | D70: 46252 | E70: 46262 | F70: 46262 | G70: 認定済 | H70: 認定 | I70: 46252 | J70: 0074500
A71: =RIGHT(J71,7)&B71 -> 007487646237 | B71: 46237 | C71: 更新申請 | D71: 46276 | E71: 46293 | F71: 46293 | G71: 認定済 | H71: 認定 | I71: 46280 | J71: 0074876
A72: =RIGHT(J72,7)&B72 -> 007607246266 | B72: 46266 | C72: 更新申請 | D72: 46302 | E72: 46311 | G72: ２次判定可能 | H72: 申請受理 | I72: 46302 | J72: 0076072
A73: =RIGHT(J73,7)&B73 -> 007610046296 | B73: 46296 | C73: 更新申請 | G73: 申請 | H73: 申請受理 | J73: 0076100
A74: =RIGHT(J74,7)&B74 -> 007611246266 | B74: 46266 | C74: 変更申請 | D74: 46289 | E74: 46301 | F74: 46301 | G74: 認定済 | H74: 認定 | I74: 46289 | J74: 0076112
A75: =RIGHT(J75,7)&B75 -> 007727646266 | B75: 46266 | C75: 更新申請 | D75: 46308 | G75: ２次判定可能 | H75: 申請受理 | I75: 46308 | J75: 0077276
A76: =RIGHT(J76,7)&B76 -> 007777046266 | B76: 46266 | C76: 変更申請 | G76: 申請 | H76: 申請受理 | J76: 0077770
A77: =RIGHT(J77,7)&B77 -> 008058946303 | B77: 46303 | C77: 変更申請 | G77: 申請 | H77: 申請受理 | J77: 0080589
A78: =RIGHT(J78,7)&B78 -> 008132846235 | B78: 46235 | C78: 新規申請 | D78: 46269 | E78: 46280 | F78: 46280 | G78: 認定済 | H78: 認定 | I78: 46269 | J78: 0081328
A79: =RIGHT(J79,7)&B79 -> 008169346231 | B79: 46231 | C79: 介護申請 | D79: 46258 | E79: 46268 | F79: 46268 | G79: 認定済 | H79: 認定 | I79: 46258 | J79: 0081693
A80: =RIGHT(J80,7)&B80 -> 008228046253 | B80: 46253 | C80: 新規申請 | D80: 46273 | E80: 46282 | F80: 46282 | G80: 認定済 | H80: 認定 | I80: 46273 | J80: 0082280
A81: =RIGHT(J81,7)&B81 -> 008287346296 | B81: 46296 | C81: 更新申請 | G81: 申請 | H81: 申請受理 | J81: 0082873
A82: =RIGHT(J82,7)&B82 -> 008311846235 | B82: 46235 | C82: 介護申請 | D82: 46259 | E82: 46269 | F82: 46269 | G82: 認定済 | H82: 認定 | I82: 46260 | J82: 0083118
A83: =RIGHT(J83,7)&B83 -> 008406846237 | B83: 46237 | C83: 更新申請 | D83: 46265 | E83: 46274 | F83: 46274 | G83: 認定済 | H83: 認定 | I83: 46266 | J83: 0084068
A84: =RIGHT(J84,7)&B84 -> 008454946267 | B84: 46267 | C84: 更新申請 | D84: 46303 | E84: 46316 | G84: ２次判定可能 | H84: 申請受理 | I84: 46303 | J84: 0084549
A85: =RIGHT(J85,7)&B85 -> 008513546266 | B85: 46266 | C85: 変更申請 | D85: 46295 | E85: 46308 | G85: ２次判定可能 | H85: 申請受理 | I85: 46295 | J85: 0085135
A86: =RIGHT(J86,7)&B86 -> 008524846266 | B86: 46266 | C86: 介護申請 | D86: 46294 | E86: 46303 | F86: 46303 | G86: 認定済 | H86: 認定 | I86: 46294 | J86: 0085248
A87: =RIGHT(J87,7)&B87 -> 008544046259 | B87: 46259 | C87: 新規申請 | D87: 46294 | E87: 46303 | F87: 46303 | G87: 認定済 | H87: 認定 | I87: 46294 | J87: 0085440
A88: =RIGHT(J88,7)&B88 -> 008560446296 | B88: 46296 | C88: 更新申請 | G88: 申請 | H88: 申請受理 | J88: 0085604
A89: =RIGHT(J89,7)&B89 -> 008677046296 | B89: 46296 | C89: 更新申請 | G89: 申請 | H89: 申請受理 | J89: 0086770
A90: =RIGHT(J90,7)&B90 -> 008803046296 | B90: 46296 | C90: 更新申請 | G90: 申請 | H90: 申請受理 | J90: 0088030
A91: =RIGHT(J91,7)&B91 -> 008812946266 | B91: 46266 | C91: 更新申請 | D91: 46302 | E91: 46314 | G91: ２次判定可能 | H91: 申請受理 | I91: 46302 | J91: 0088129
A92: =RIGHT(J92,7)&B92 -> 008862346237 | B92: 46237 | C92: 更新申請 | D92: 46269 | E92: 46280 | F92: 46280 | G92: 認定済 | H92: 認定 | I92: 46269 | J92: 0088623
A93: =RIGHT(J93,7)&B93 -> 008879746217 | B93: 46217 | C93: 更新申請 | D93: 46255 | E93: 46267 | F93: 46267 | G93: 認定済 | H93: 認定 | I93: 46255 | J93: 0088797
A94: =RIGHT(J94,7)&B94 -> 008974046274 | B94: 46274 | C94: 更新申請 | D94: 46304 | E94: 46317 | G94: ２次判定可能 | H94: 申請受理 | I94: 46304 | J94: 0089740
A95: =RIGHT(J95,7)&B95 -> 009197346266 | B95: 46266 | C95: 更新申請 | D95: 46296 | E95: 46309 | G95: ２次判定可能 | H95: 申請受理 | I95: 46296 | J95: 0091973
A96: =RIGHT(J96,7)&B96 -> 009329446248 | B96: 46248 | C96: 新規申請 | D96: 46268 | E96: 46279 | F96: 46279 | G96: 認定済 | H96: 認定 | I96: 46268 | J96: 0093294
A97: =RIGHT(J97,7)&B97 -> 009355046266 | B97: 46266 | C97: 変更申請 | D97: 46293 | E97: 46303 | F97: 46303 | G97: 認定済 | H97: 認定 | I97: 46293 | J97: 0093550
A98: =RIGHT(J98,7)&B98 -> 009389046258 | B98: 46258 | C98: 更新申請 | D98: 46281 | E98: 46295 | F98: 46295 | G98: 認定済 | H98: 認定 | I98: 46281 | J98: 0093890
A99: =RIGHT(J99,7)&B99 -> 009394146237 | B99: 46237 | C99: 更新申請 | D99: 46289 | E99: 46301 | F99: 46301 | G99: 認定済 | H99: 認定 | I99: 46289 | J99: 0093941
A100: =RIGHT(J100,7)&B100 -> 009452646266 | B100: 46266 | C100: 介護申請 | D100: 46289 | E100: 46301 | F100: 46301 | G100: 認定済 | H100: 認定 | I100: 46289 | J100: 0094526
...
