Workbook

Sheet 確認ツール
B3: 佐世保市 介護認定審査会 開催日確認ツール
D5: =MIN(データ!B:B) -> 46216 | E5: ～ | F5: =MAX(データ!B:B) -> 46308 | G5: までの申請分が検索可能です。
C7: 被保険者番号 | G7: =IF(COUNTA(データ!A:A)<COUNTA(データ!J:J),"検索用番号の数式を伸ばしてください","")
C8: 申請日
D9: =IF(OR(D7="",D8=""),"",IF(COUNTIF(データ!A:A,D7&D8)>1,"大変恐れ入りますが、長寿社会課に直接お問い合わせください。",""))
C11: 認定申請内容 | G11: 介護認定審査会
C12: 申請区分 | D12: =IF(OR(D7="",D8="",D9<>""),"",IFERROR(VLOOKUP(RIGHT("0000"&D7,7)&D8,データ!A:J,3,FALSE),"該当なし")) | G12: 開催予定日 | H12: =IF(OR(D12="",D12="該当なし"),"",IF(VLOOKUP(RIGHT("0000"&D7,7)&D8,データ!A:H,5,FALSE)="","未定",VLOOKUP(RIGHT("0000"&D7,7)&D8,データ!A:H,5,FALSE)))
G14: 主治医意見書情報
G15: 意見書入手日 | H15: =IF(OR(D12="",D12="該当なし"),"",IF(VLOOKUP(RIGHT("0000"&D7,7)&D8,データ!A:I,9,FALSE)="","未定",VLOOKUP(RIGHT("0000"&D7,7)&D8,データ!A:I,9,FALSE)))
F17: ※未定の場合は | G17: =MAX(データ!E:E) -> 46317 | H17: 以降に審査会を開催予定です。

Sheet データ
A1: 検索用番号 | B1: 要介護認定申請日 | C1: 要介護認定申請区分 | D1: 一次審査日 | E1: 二次審査日 | F1: 要介護認定日 | G1: 進行状況 | H1: 認定状態区分 | I1: 主治医意見書入手日 | J1: 検索用被保番
A2: =RIGHT(J2,7)&B2 -> 000265046301 | B2: 46301 | C2: 介護申請 | G2: 申請 | H2: 申請受理 | J2: 0002650
A3: =RIGHT(J3,7)&B3 -> 000297746240 | B3: 46240 | C3: 変更申請 | D3: 46272 | E3: 46282 | F3: 46282 | G3: 認定済 | H3: 認定 | I3: 46273 | J3: 0002977
A4: =RIGHT(J4,7)&B4 -> 000565646235 | B4: 46235 | C4: 介護申請 | D4: 46246 | E4: 46261 | F4: 46261 | G4: 認定済 | H4: 認定 | I4: 46246 | J4: 0005656
A5: =RIGHT(J5,7)&B5 -> 000598446268 | B5: 46268 | C5: 更新申請 | D5: 46308 | G5: ２次判定可能 | H5: 申請受理 | I5: 46308 | J5: 0005984
A6: =RIGHT(J6,7)&B6 -> 000612846296 | B6: 46296 | C6: 更新申請 | G6: 申請 | H6: 申請受理 | J6: 0006128
A7: =RIGHT(J7,7)&B7 -> 000634346238 | B7: 46238 | C7: 更新申請 | D7: 46273 | E7: 46289 | F7: 46289 | G7: 認定済 | H7: 認定 | I7: 46273 | J7: 0006343
A8: =RIGHT(J8,7)&B8 -> 000638046297 | B8: 46297 | C8: 更新申請 | G8: 申請 | H8: 申請受理 | J8: 0006380
A9: =RIGHT(J9,7)&B9 -> 000641946268 | B9: 46268 | C9: 更新申請 | D9: 46304 | E9: 46317 | G9: ２次判定可能 | H9: 申請受理 | I9: 46304 | J9: 0006419
A10: =RIGHT(J10,7)&B10 -> 000761246266 | B10: 46266 | C10: 更新申請 | D10: 46297 | E10: 46310 | G10: ２次判定可能 | H10: 申請受理 | I10: 46297 | J10: 0007612
A11: =RIGHT(J11,7)&B11 -> 000996846296 | B11: 46296 | C11: 更新申請 | G11: 申請 | H11: 申請受理 | J11: 0009968
A12: =RIGHT(J12,7)&B12 -> 001010446266 | B12: 46266 | C12: 更新申請 | D12: 46283 | E12: 46300 | F12: 46300 | G12: 認定済 | H12: 認定 | I12: 46283 | J12: 0010104
A13: =RIGHT(J13,7)&B13 -> 001137046272 | B13: 46272 | C13: 変更申請 | D13: 46295 | E13: 46308 | G13: ２次判定可能 | H13: 申請受理 | I13: 46295 | J13: 0011370
A14: =RIGHT(J14,7)&B14 -> 001397046266 | B14: 46266 | C14: 更新申請 | D14: 46290 | E14: 46302 | F14: 46302 | G14: 認定済 | H14: 認定 | I14: 46290 | J14: 0013970
A15: =RIGHT(J15,7)&B15 -> 001398146296 | B15: 46296 | C15: 更新申請 | G15: 申請 | H15: 申請受理 | J15: 0013981
A16: =RIGHT(J16,7)&B16 -> 001412546237 | B16: 46237 | C16: 更新申請 | D16: 46265 | E16: 46276 | F16: 46276 | G16: 認定済 | H16: 認定 | I16: 46265 | J16: 0014125
A17: =RIGHT(J17,7)&B17 -> 001499546266 | B17: 46266 | C17: 更新申請 | D17: 46297 | E17: 46310 | G17: ２次判定可能 | H17: 申請受理 | I17: 46297 | J17: 0014995
A18: =RIGHT(J18,7)&B18 -> 001583546217 | B18: 46217 | C18: 新規申請 | D18: 46238 | E18: 46255 | F18: 46255 | G18: 認定済 | H18: 認定 | I18: 46238 | J18: 0015835
A19: =RIGHT(J19,7)&B19 -> 001720846267 | B19: 46267 | C19: 更新申請 | G19: 申請 | H19: 申請受理 | J19: 0017208
A20: =RIGHT(J20,7)&B20 -> 001766246237 | B20: 46237 | C20: 更新申請 | D20: 46275 | E20: 46290 | F20: 46290 | G20: 認定済 | H20: 認定 | I20: 46279 | J20: 0017662
A21: =RIGHT(J21,7)&B21 -> 001823546238 | B21: 46238 | C21: 更新申請 | D21: 46280 | E21: 46295 | F21: 46295 | G21: 認定済 | H21: 認定 | I21: 46280 | J21: 0018235
A22: =RIGHT(J22,7)&B22 -> 002011746296 | B22: 46296 | C22: 更新申請 | G22: 申請 | H22: 申請受理 | J22: 0020117
A23: =RIGHT(J23,7)&B23 -> 002341546294 | B23: 46294 | C23: 更新申請 | G23: 申請 | H23: 申請受理 | J23: 0023415
A24: =RIGHT(J24,7)&B24 -> 002604246266 | B24: 46266 | C24: 介護申請 | D24: 46274 | E24: 46289 | F24: 46289 | G24: 認定済 | H24: 認定 | I24: 46274 | J24: 0026042
A25: =RIGHT(J25,7)&B25 -> 002722246237 | B25: 46237 | C25: 更新申請 | D25: 46274 | E25: 46290 | F25: 46290 | G25: 認定済 | H25: 認定 | I25: 46274 | J25: 0027222
A26: =RIGHT(J26,7)&B26 -> 002953046293 | B26: 46293 | C26: 更新申請 | G26: 申請 | H26: 申請受理 | J26: 0029530
A27: =RIGHT(J27,7)&B27 -> 002984546296 | B27: 46296 | C27: 更新申請 | G27: 申請 | H27: 申請受理 | J27: 0029845
A28: =RIGHT(J28,7)&B28 -> 003162646239 | B28: 46239 | C28: 変更申請 | D28: 46267 | E28: 46279 | F28: 46279 | G28: 認定済 | H28: 認定 | I28: 46267 | J28: 0031626
A29: =RIGHT(J29,7)&B29 -> 003259046237 | B29: 46237 | C29: 更新申請 | D29: 46255 | E29: 46268 | F29: 46268 | G29: 認定済 | H29: 認定 | I29: 46255 | J29: 0032590
A30: =RIGHT(J30,7)&B30 -> 003284346266 | B30: 46266 | C30: 更新申請 | D30: 46294 | E30: 46308 | G30: ２次判定可能 | H30: 申請受理 | I30: 46294 | J30: 0032843
A31: =RIGHT(J31,7)&B31 -> 003345346296 | B31: 46296 | C31: 更新申請 | G31: 申請 | H31: 申請受理 | J31: 0033453
A32: =RIGHT(J32,7)&B32 -> 003486046296 | B32: 46296 | C32: 更新申請 | G32: 申請 | H32: 申請受理 | J32: 0034860
A33: =RIGHT(J33,7)&B33 -> 003583746296 | B33: 46296 | C33: 更新申請 | G33: 申請 | H33: 申請受理 | J33: 0035837
A34: =RIGHT(J34,7)&B34 -> 003612046237 | B34: 46237 | C34: 更新申請 | D34: 46259 | E34: 46269 | F34: 46269 | G34: 認定済 | H34: 認定 | I34: 46259 | J34: 0036120
A35: =RIGHT(J35,7)&B35 -> 003892146266 | B35: 46266 | C35: 更新申請 | D35: 46283 | E35: 46300 | F35: 46300 | G35: 認定済 | H35: 認定 | I35: 46283 | J35: 0038921
A36: =RIGHT(J36,7)&B36 -> 003919946266 | B36: 46266 | C36: 更新申請 | D36: 46304 | E36: 46317 | G36: ２次判定可能 | H36: 申請受理 | I36: 46304 | J36: 0039199
A37: =RIGHT(J37,7)&B37 -> 004019346224 | B37: 46224 | C37: 更新申請 | D37: 46253 | E37: 46265 | F37: 46265 | G37: 認定済 | H37: 認定 | I37: 46253 | J37: 0040193
A38: =RIGHT(J38,7)&B38 -> 004020846224 | B38: 46224 | C38: 更新申請 | D38: 46255 | E38: 46267 | F38: 46267 | G38: 認定済 | H38: 認定 | I38: 46255 | J38: 0040208
A39: =RIGHT(J39,7)&B39 -> 004051246266 | B39: 46266 | C39: 更新申請 | D39: 46301 | E39: 46311 | G39: ２次判定可能 | H39: 申請受理 | I39: 46301 | J39: 0040512
A40: =RIGHT(J40,7)&B40 -> 004295746235 | B40: 46235 | C40: 新規申請 | D40: 46275 | E40: 46290 | F40: 46290 | G40: 認定済 | H40: 認定 | I40: 46275 | J40: 0042957
...
